BEGIN:VCALENDAR
VERSION:2.0
PRODID:-//Ente Manifestazioni - ECPv6.15.20//NONSGML v1.0//EN
CALSCALE:GREGORIAN
METHOD:PUBLISH
X-ORIGINAL-URL:https://www.entemanifestazioni.com
X-WR-CALDESC:Eventi per Ente Manifestazioni
REFRESH-INTERVAL;VALUE=DURATION:PT1H
X-Robots-Tag:noindex
X-PUBLISHED-TTL:PT1H
BEGIN:VTIMEZONE
TZID:Europe/Rome
BEGIN:DAYLIGHT
TZOFFSETFROM:+0100
TZOFFSETTO:+0200
TZNAME:CEST
DTSTART:20250330T010000
END:DAYLIGHT
BEGIN:STANDARD
TZOFFSETFROM:+0200
TZOFFSETTO:+0100
TZNAME:CET
DTSTART:20251026T010000
END:STANDARD
BEGIN:DAYLIGHT
TZOFFSETFROM:+0100
TZOFFSETTO:+0200
TZNAME:CEST
DTSTART:20260329T010000
END:DAYLIGHT
BEGIN:STANDARD
TZOFFSETFROM:+0200
TZOFFSETTO:+0100
TZNAME:CET
DTSTART:20261025T010000
END:STANDARD
BEGIN:DAYLIGHT
TZOFFSETFROM:+0100
TZOFFSETTO:+0200
TZNAME:CEST
DTSTART:20270328T010000
END:DAYLIGHT
BEGIN:STANDARD
TZOFFSETFROM:+0200
TZOFFSETTO:+0100
TZNAME:CET
DTSTART:20271031T010000
END:STANDARD
END:VTIMEZONE
BEGIN:VEVENT
DTSTART;TZID=Europe/Rome:20260124T210000
DTEND;TZID=Europe/Rome:20260124T230000
DTSTAMP:20260419T152750
CREATED:20251230T152816Z
LAST-MODIFIED:20251230T152816Z
UID:1306-1769288400-1769295600@www.entemanifestazioni.com
SUMMARY:Conferenza “MISTERI A SAVIGLIANO\, tra epigrafia e storia”
DESCRIPTION:SABATO 24\nore 21.00 – Sala Crosà Neira\, piazza Misericordia\nConferenza “MISTERI A SAVIGLIANO\, tra epigrafia e storia” a cura del prof. Emanuele Bonis (Università Cattolica del Sacro Cuore di Milano)\, da un’idea del prof. Giulio Ambroggio.\nSegue concerto “Note d’amore” con il Crossing Sound Trio. Presenta Alberto Tibaudi.\nA seguire rinfresco offerto dall’Associazione Turistica Pro Loco Savigliano.
URL:https://www.entemanifestazioni.com/evento/conferenza-misteri-a-savigliano-tra-epigrafia-e-storia/
LOCATION:Crosà Neira\, Piazza Misericordia\, Savigliano\, Italy
END:VEVENT
BEGIN:VEVENT
DTSTART;TZID=Europe/Rome:20260125T100000
DTEND;TZID=Europe/Rome:20260125T113000
DTSTAMP:20260419T152750
CREATED:20251230T152905Z
LAST-MODIFIED:20251230T152905Z
UID:1308-1769335200-1769340600@www.entemanifestazioni.com
SUMMARY:Celebrazione S. Messa in onore di San Sebastiano
DESCRIPTION:DOMENICA 25\nore 10.00 – Chiesa Collegiata di S. Andrea\nCelebrazione S. Messa in onore di San Sebastiano\nCon omaggio floreale all’altare del Santo Patrono \n 
URL:https://www.entemanifestazioni.com/evento/celebrazione-s-messa-in-onore-di-san-sebastiano/
LOCATION:Chiesa di Sant’Andrea\, Via Sant'Andrea\, Savigliano\, 12038\, Italy
END:VEVENT
BEGIN:VEVENT
DTSTART;TZID=Europe/Rome:20260126T170000
DTEND;TZID=Europe/Rome:20260126T190000
DTSTAMP:20260419T152750
CREATED:20251230T153709Z
LAST-MODIFIED:20251230T153709Z
UID:1323-1769446800-1769454000@www.entemanifestazioni.com
SUMMARY:CENTRO FAMIGLIE E LUDOTECA “LA CASA SULL’ALBERO” - Profumo di Spezie
DESCRIPTION:CENTRO FAMIGLIE E LUDOTECA “LA CASA SULL’ALBERO” \nlunedì 26\nore 17/19 – Profumo di Spezie laboratorio di cucina interculturale
URL:https://www.entemanifestazioni.com/evento/centro-famiglie-e-ludoteca-la-casa-sullalbero-profumo-di-spezie-2/
LOCATION:CN
END:VEVENT
BEGIN:VEVENT
DTSTART;TZID=Europe/Rome:20260126T170000
DTEND;TZID=Europe/Rome:20260126T190000
DTSTAMP:20260419T152750
CREATED:20251230T154122Z
LAST-MODIFIED:20251230T154122Z
UID:1329-1769446800-1769454000@www.entemanifestazioni.com
SUMMARY:CENTRO FAMIGLIE E LUDOTECA “LA CASA SULL’ALBERO” - Scambio carte e figurine
DESCRIPTION:CENTRO FAMIGLIE E LUDOTECA “LA CASA SULL’ALBERO” \nlunedì 26\nore 17/19 – Scambio carte e figurine per bambini\, ragazzi e adulti.
URL:https://www.entemanifestazioni.com/evento/centro-famiglie-e-ludoteca-la-casa-sullalbero-scambio-carte-e-figurine/
LOCATION:CN
END:VEVENT
BEGIN:VEVENT
DTSTART;TZID=Europe/Rome:20260126T173000
DTEND;TZID=Europe/Rome:20260126T183000
DTSTAMP:20260419T152750
CREATED:20251230T154454Z
LAST-MODIFIED:20251230T154454Z
UID:1335-1769448600-1769452200@www.entemanifestazioni.com
SUMMARY:CENTRO FAMIGLIE E LUDOTECA “LA CASA SULL’ALBERO” - Corso di massaggio infantile
DESCRIPTION:CENTRO FAMIGLIE E LUDOTECA “LA CASA SULL’ALBERO” \nlunedì 26 \nore 17.30/18.30 – Corso di massaggio infantile per entrare in relazione con il bambino sin dai primissimi mesi. Per bambini 0-12 mesi e loro genitori. Corso gratuito (prenotazione 335/1273890)
URL:https://www.entemanifestazioni.com/evento/centro-famiglie-e-ludoteca-la-casa-sullalbero-corso-di-massaggio-infantile-3/
LOCATION:CN
END:VEVENT
BEGIN:VEVENT
DTSTART;TZID=Europe/Rome:20260127T210000
DTEND;TZID=Europe/Rome:20260127T230000
DTSTAMP:20260419T152750
CREATED:20251230T153000Z
LAST-MODIFIED:20251230T153000Z
UID:1310-1769547600-1769554800@www.entemanifestazioni.com
SUMMARY:E VI CERCO ANCORA Recital in omaggio al libro di Fulvio Solms
DESCRIPTION:MARTEDI’ 27\nore 21.00 – Museo Civico A. Olmo\, Via S.Francesco\nGIORNATA DELLA MEMORIA\nE VI CERCO ANCORA Recital in omaggio al libro di Fulvio Solms. A cura di Claudio Del Toro/Teatro Società. Con Claudio Del Toro\, Elisabetta Mazzara\, Federico Ferrato.\nIngresso libero (prenotazione consigliata 0172/712982 museocivico.gipsoteca@comune.savigliano.cn.it)
URL:https://www.entemanifestazioni.com/evento/e-vi-cerco-ancora-recital-in-omaggio-al-libro-di-fulvio-solms/
LOCATION:Museo Civico/Gipsoteca\, Via San Francesco\, 17\, Savigliano\, Italy
END:VEVENT
BEGIN:VEVENT
DTSTART;TZID=Europe/Rome:20260128T210000
DTEND;TZID=Europe/Rome:20260128T230000
DTSTAMP:20260419T152750
CREATED:20251230T153102Z
LAST-MODIFIED:20251230T153102Z
UID:1312-1769634000-1769641200@www.entemanifestazioni.com
SUMMARY:CONDOMINIO MON AMOUR - Stagione Teatrale al Milanollo 2025/26
DESCRIPTION:MERCOLEDI’ 28\nore 21.00 – Teatro Milanollo\, piazza Turletti\nStagione Teatrale al Milanollo 2025/26\nCONDOMINIO MON AMOUR di e con Giacomo Poretti e Daniela Cristofori – regia Marco Zoppello\nIngresso: da € 16 a € 22 secondo l’ordine di posto\nInfo: 0172.710222 – cultura@comune.savigliano.cn.it
URL:https://www.entemanifestazioni.com/evento/condominio-mon-amour-stagione-teatrale-al-milanollo-2025-26/
LOCATION:Teatro Milanollo\, Piazza Turletti\, Savigliano\, Italy
END:VEVENT
BEGIN:VEVENT
DTSTART;TZID=Europe/Rome:20260130T210000
DTEND;TZID=Europe/Rome:20260130T230000
DTSTAMP:20260419T152750
CREATED:20251230T153149Z
LAST-MODIFIED:20251230T153149Z
UID:1314-1769806800-1769814000@www.entemanifestazioni.com
SUMMARY:Spettacolo TAL E QUAL commedia brillante in 3 atti di Christian La Rosa.
DESCRIPTION:VENERDI’ 30\nore 21.00 – Teatro Milanollo\, piazza Turletti\nSpettacolo TAL E QUAL commedia brillante in 3 atti di Christian La Rosa.\nCompagnia D’La Vila di Verzuolo.\nA cura Lions Club Scarnafigi e Piana del Varaita e Lions Club Saluzzo Savigliano.\nIngresso: platea palchi € 15\, galleria loggione € 10\nPrevendita: Libreria Messaggi\, Via Torino 70
URL:https://www.entemanifestazioni.com/evento/spettacolo-tal-e-qual-commedia-brillante-in-3-atti-di-christian-la-rosa/
LOCATION:Teatro Milanollo\, Piazza Turletti\, Savigliano\, Italy
END:VEVENT
BEGIN:VEVENT
DTSTART;TZID=Europe/Rome:20260201T080000
DTEND;TZID=Europe/Rome:20260201T190000
DTSTAMP:20260419T152750
CREATED:20260130T131226Z
LAST-MODIFIED:20260130T131226Z
UID:1539-1769932800-1769972400@www.entemanifestazioni.com
SUMMARY:MERCATINO DELL’ANTIQUARIATO
DESCRIPTION:DOMENICA 1\nmattino e pomeriggio – centro cittadino\nMERCATINO DELL’ANTIQUARIATO\nInformazioni: 335.6176331 info@gloriamonasterolo.it
URL:https://www.entemanifestazioni.com/evento/mercatino-dellantiquariato-2/
LOCATION:Centro storico\, Piazza Santarosa\, Savigliano\, 12038\, Italy
END:VEVENT
BEGIN:VEVENT
DTSTART;TZID=Europe/Rome:20260201T163000
DTEND;TZID=Europe/Rome:20260201T183000
DTSTAMP:20260419T152750
CREATED:20260130T131408Z
LAST-MODIFIED:20260130T131408Z
UID:1541-1769963400-1769970600@www.entemanifestazioni.com
SUMMARY:DOMENICA A TEATRO – SULLA VITA SFORTUNATA DEI VERMI
DESCRIPTION:DOMENICA 1 \nore 16.30 – Teatro Milanollo\, piazza Turletti\nDOMENICA A TEATRO – SULLA VITA SFORTUNATA DEI VERMI\nTratto da “Sulla vita sfortunata dei vermi. Trattato abbastanza breve di storia naturale” di Noemi Vola.\nSpettacolo per Famiglia in collaborazione con Fondazione Teatro Ragazzi e Giovani\nIngresso unico € 6\,00\nInfo: 0172.710222 – cultura@comune.savigliano.cn.it
URL:https://www.entemanifestazioni.com/evento/domenica-a-teatro-sulla-vita-sfortunata-dei-vermi/
LOCATION:Teatro Milanollo\, Piazza Turletti\, Savigliano\, Italy
END:VEVENT
BEGIN:VEVENT
DTSTART;TZID=Europe/Rome:20260204T180000
DTEND;TZID=Europe/Rome:20260204T190000
DTSTAMP:20260419T152750
CREATED:20260130T144058Z
LAST-MODIFIED:20260130T144058Z
UID:1598-1770228000-1770231600@www.entemanifestazioni.com
SUMMARY:CENTRO FAMIGLIE E LUDOTECA “LA CASA SULL’ALBERO”
DESCRIPTION:CENTRO FAMIGLIE E LUDOTECA “LA CASA SULL’ALBERO” \nmercoledì 4\nore 18/19 – Progetto Gaja incontri per ragazzi scuola media\, per una maggiore consapevolezza di sé e globale.
URL:https://www.entemanifestazioni.com/evento/centro-famiglie-e-ludoteca-la-casa-sullalbero-2/
LOCATION:CN
END:VEVENT
BEGIN:VEVENT
DTSTART;TZID=Europe/Rome:20260205T183000
DTEND;TZID=Europe/Rome:20260205T193000
DTSTAMP:20260419T152750
CREATED:20260130T131541Z
LAST-MODIFIED:20260130T131541Z
UID:1544-1770316200-1770319800@www.entemanifestazioni.com
SUMMARY:Celebrazione S. MESSA
DESCRIPTION:GIOVEDÌ 5\nore 18.30 – Chiesa di S. Andrea\nCelebrazione S. MESSA\nin ricordo dei martiri delle Foibe
URL:https://www.entemanifestazioni.com/evento/celebrazione-s-messa/
LOCATION:Chiesa di Sant’Andrea\, Via Sant'Andrea\, Savigliano\, 12038\, Italy
END:VEVENT
BEGIN:VEVENT
DTSTART;TZID=Europe/Rome:20260206T173000
DTEND;TZID=Europe/Rome:20260206T190000
DTSTAMP:20260419T152750
CREATED:20260130T132036Z
LAST-MODIFIED:20260130T132140Z
UID:1546-1770399000-1770404400@www.entemanifestazioni.com
SUMMARY:Presentazione libro “IL CORTILE DI VIA MAZZINI”
DESCRIPTION:VENERDÌ 6\nore 17.30 – Sala S. Agostino\, piazza Arimondi\nPresentazione libro “IL CORTILE DI VIA MAZZINI” (ed. Araba Fenice) Emma Mana dialogherà con l’Autore Beppe Magliano. Il romanzo intreccia vite\, segreti e memorie in un cortile di provincia fra gli anni ’30 e ’60 del novemcento.\nIngresso libero
URL:https://www.entemanifestazioni.com/evento/presentazione-libro-il-cortile-di-via-mazzini/
LOCATION:Ex chiesa di Sant’Agostino\, piazza Arimondi\, Savigliano\, 12038\, Italy
ATTACH;FMTTYPE=image/jpeg:https://www.entemanifestazioni.com/wp-content/uploads/2026/01/il-cortile-di-via-mazzini-727203.jpg
END:VEVENT
BEGIN:VEVENT
DTSTART;TZID=Europe/Rome:20260207T110000
DTEND;TZID=Europe/Rome:20260207T120000
DTSTAMP:20260419T152750
CREATED:20260130T133502Z
LAST-MODIFIED:20260130T133502Z
UID:1549-1770462000-1770465600@www.entemanifestazioni.com
SUMMARY:COMMEMORAZIONE DEL GIORNO DEL RICORDO
DESCRIPTION:SABATO 7\nore 11.00 – Via Martiri delle Foibe (fronte Multisala Cinemà)\nCOMMEMORAZIONE DEL GIORNO DEL RICORDO\nDeposizione corona alla presenza delle Autorità civili e militari per non dimenticare la tragedia delle Foibe e dell’esodo giuliano-dalmata. In collaborazione con Assoc. Nazionale Venezia Giulia e Dalmazia.
URL:https://www.entemanifestazioni.com/evento/commemorazione-del-giorno-del-ricordo/
LOCATION:Via Martiri delle Foibe\, Via Martiri delle Foibe\, Savigliano\, Italy
END:VEVENT
BEGIN:VEVENT
DTSTART;TZID=Europe/Rome:20260207T170000
DTEND;TZID=Europe/Rome:20260207T183000
DTSTAMP:20260419T152750
CREATED:20260130T133911Z
LAST-MODIFIED:20260130T133911Z
UID:1552-1770483600-1770489000@www.entemanifestazioni.com
SUMMARY:GIORNO DELLA MEMORIA E DEL RICORDO
DESCRIPTION:SABATO 7 \nore 17.00 – Museo Civico A. Olmo\, Via S.Francesco\nGIORNO DELLA MEMORIA E DEL RICORDO\nApertura al pubblico MOSTRA “Fascismo\, Foibe\, Esodo. Le tragedie del confine orientale”\nA cura Fondazione Memoria della Deportazione.\nIn collaborazione con Istituto Storico Resistenza e della Società contemporanea di Cuneo.\nPeriodo apertura: dal 8 al 22 febbraio 2026\nOrario: sabato 15/18.30\, domenica 10/13 e 15/18.30\nAperture settimanali per le scuole su prenotazione.\nIngresso libero (prenotazione consigliata 0172/712982 museocivico.gipsoteca@comune.savigliano.cn.it)
URL:https://www.entemanifestazioni.com/evento/giorno-della-memoria-e-del-ricordo/
LOCATION:Museo Civico/Gipsoteca\, Via San Francesco\, 17\, Savigliano\, Italy
END:VEVENT
BEGIN:VEVENT
DTSTART;TZID=Europe/Rome:20260207T210000
DTEND;TZID=Europe/Rome:20260207T220000
DTSTAMP:20260419T152750
CREATED:20260130T134129Z
LAST-MODIFIED:20260130T134129Z
UID:1554-1770498000-1770501600@www.entemanifestazioni.com
SUMMARY:IL TANGO DI SOFIA
DESCRIPTION:SABATO 7 \nore 21.00 –Teatro Milanollo\, piazza Turletti\nIL TANGO DI SOFIA\nDa un’idea di Vito Mario Burgio e Susi Lillo\nSpettacolo di tango indipendente – regia Pinuccio Bellone. In collaborazione con Compagnia La Corte dei Folli.\nPrenotazione obbligatoria: messaggio whatsapp 371.5474326 www.tangoindipendente.com
URL:https://www.entemanifestazioni.com/evento/il-tango-di-sofia/
LOCATION:Teatro Milanollo\, Piazza Turletti\, Savigliano\, Italy
END:VEVENT
BEGIN:VEVENT
DTSTART;TZID=Europe/Rome:20260208T100000
DTEND;TZID=Europe/Rome:20260208T123000
DTSTAMP:20260419T152750
CREATED:20260130T134446Z
LAST-MODIFIED:20260130T134446Z
UID:1556-1770544800-1770553800@www.entemanifestazioni.com
SUMMARY:CARNEVALE al Museo Ferroviario Piemontese
DESCRIPTION:DOMENICA 8\nore 10.00 – Museo Ferroviario Piemontese\, Via Coloira 7\nCARNEVALE al Museo Ferroviario Piemontese\nVisita guidata in maschera\, plastici ferroviari attivi\, corsette sul trenino e laboratorio creativo a tema a cura di Floriana Lovera.\nCosto € 7 sia adulti che bambini (età consigliata 3-10 anni).\nPrenotazione: 348.7832848 floriana.laboratoricreativi@gmail.com
URL:https://www.entemanifestazioni.com/evento/carnevale-al-museo-ferroviario-piemontese/
LOCATION:Museo Ferroviario Piemontese\, Via Coloira\, 7\, Savigliano\, 12038\, Italy
END:VEVENT
BEGIN:VEVENT
DTSTART;TZID=Europe/Rome:20260208T170000
DTEND;TZID=Europe/Rome:20260208T190000
DTSTAMP:20260419T152750
CREATED:20260130T134711Z
LAST-MODIFIED:20260130T134711Z
UID:1558-1770570000-1770577200@www.entemanifestazioni.com
SUMMARY:CINEMA AL CINEMA - HOPPER E IL TEMPIO PERDUTO
DESCRIPTION:DOMENICA 8 \nore 17.00 – Cinema Aurora\, Via Ghione\nCINEMA AL CINEMA\nHOPPER E IL TEMPIO PERDUTO\nIngresso: biglietto € 3\,50
URL:https://www.entemanifestazioni.com/evento/cinema-al-cinema-hopper-e-il-tempio-perduto/
LOCATION:Cinema Aurora\, Via Ghione\, Savigliano\, Italy
END:VEVENT
BEGIN:VEVENT
DTSTART;TZID=Europe/Rome:20260208T183000
DTEND;TZID=Europe/Rome:20260208T193000
DTSTAMP:20260419T152750
CREATED:20260130T134855Z
LAST-MODIFIED:20260130T134855Z
UID:1560-1770575400-1770579000@www.entemanifestazioni.com
SUMMARY:Evento musicale GIORGIO CANALI - ROSSO SOLO
DESCRIPTION:DOMENICA 8 \nore 18.30 – Torre Civica\, piazza Santa Rosa\nEvento musicale GIORGIO CANALI – ROSSO SOLO\nLive acustico (chitarra\, voce e solista)\nA cura Associazione Diagonal\nIngresso: € 25\,00\nInfo e prenotazione: 333.8012927
URL:https://www.entemanifestazioni.com/evento/evento-musicale-giorgio-canali-rosso-solo/
LOCATION:Piazza Santa Rosa\, Piazza Santa Rosa\, Savigliano\, Italy
END:VEVENT
BEGIN:VEVENT
DTSTART;TZID=Europe/Rome:20260209T170000
DTEND;TZID=Europe/Rome:20260209T180000
DTSTAMP:20260419T152750
CREATED:20260130T144651Z
LAST-MODIFIED:20260130T144651Z
UID:1604-1770656400-1770660000@www.entemanifestazioni.com
SUMMARY:CENTRO FAMIGLIE E LUDOTECA “LA CASA SULL’ALBERO”
DESCRIPTION:CENTRO FAMIGLIE E LUDOTECA “LA CASA SULL’ALBERO” \nlunedì 9\nore 17/18 – Laboratori creativi di Carnevale per bambini 3-10 anni. Accesso libero e gratuito.
URL:https://www.entemanifestazioni.com/evento/centro-famiglie-e-ludoteca-la-casa-sullalbero-5/
LOCATION:CN
END:VEVENT
BEGIN:VEVENT
DTSTART;TZID=Europe/Rome:20260209T173000
DTEND;TZID=Europe/Rome:20260209T193000
DTSTAMP:20260419T152750
CREATED:20260130T144340Z
LAST-MODIFIED:20260130T144340Z
UID:1600-1770658200-1770665400@www.entemanifestazioni.com
SUMMARY:CENTRO FAMIGLIE E LUDOTECA “LA CASA SULL’ALBERO”
DESCRIPTION:CENTRO FAMIGLIE E LUDOTECA “LA CASA SULL’ALBERO” \nlunedì 9\nore 17.30/19.30 – Profumo di Spezie laboratorio di cucina interculturale
URL:https://www.entemanifestazioni.com/evento/centro-famiglie-e-ludoteca-la-casa-sullalbero-3/
LOCATION:CN
END:VEVENT
BEGIN:VEVENT
DTSTART;TZID=Europe/Rome:20260210T150000
DTEND;TZID=Europe/Rome:20260210T170000
DTSTAMP:20260419T152750
CREATED:20260130T135048Z
LAST-MODIFIED:20260130T135048Z
UID:1562-1770735600-1770742800@www.entemanifestazioni.com
SUMMARY:Suggerimenti per un efficace prevenzione dei reati di furti e truffe
DESCRIPTION:MARTEDÌ 10\nore 15.00 – Centro Culturale Savigl.\, piazza Nizza\nI Carabinieri del Comando Compagnia di Savigliano incontrano la popolazione sul tema “Suggerimenti per un efficace prevenzione dei reati di furti e truffe”\nIngresso libero (sino ad esaurimento posti)
URL:https://www.entemanifestazioni.com/evento/suggerimenti-per-un-efficace-prevenzione-dei-reati-di-furti-e-truffe/
LOCATION:Centro Culturale Saviglianese\, piazza Nizza\, Savigliano\, 12038\, Italy
END:VEVENT
BEGIN:VEVENT
DTSTART;TZID=Europe/Rome:20260210T210000
DTEND;TZID=Europe/Rome:20260210T220000
DTSTAMP:20260419T152750
CREATED:20260130T151418Z
LAST-MODIFIED:20260130T151418Z
UID:1608-1770757200-1770760800@www.entemanifestazioni.com
SUMMARY:CENTRO FAMIGLIE E LUDOTECA “LA CASA SULL’ALBERO”
DESCRIPTION:CENTRO FAMIGLIE E LUDOTECA “LA CASA SULL’ALBERO” \nmartedì 10\nore 21 – Genitori efficaci per genitori e per chi desidera migliorare le proprie competenze relazionali.  \nInfo e prenotazioni: Roberto Colombero 333.3027967
URL:https://www.entemanifestazioni.com/evento/centro-famiglie-e-ludoteca-la-casa-sullalbero-7/
LOCATION:CN
END:VEVENT
BEGIN:VEVENT
DTSTART;TZID=Europe/Rome:20260211T170000
DTEND;TZID=Europe/Rome:20260211T180000
DTSTAMP:20260419T152750
CREATED:20260130T144757Z
LAST-MODIFIED:20260130T144757Z
UID:1606-1770829200-1770832800@www.entemanifestazioni.com
SUMMARY:CENTRO FAMIGLIE E LUDOTECA “LA CASA SULL’ALBERO”
DESCRIPTION:CENTRO FAMIGLIE E LUDOTECA “LA CASA SULL’ALBERO” \nMercoledì 11\nore 17/18 – Laboratori creativi di Carnevale per bambini 3-10 anni. Accesso libero e gratuito.
URL:https://www.entemanifestazioni.com/evento/centro-famiglie-e-ludoteca-la-casa-sullalbero-6/
LOCATION:CN
END:VEVENT
BEGIN:VEVENT
DTSTART;TZID=Europe/Rome:20260212T210000
DTEND;TZID=Europe/Rome:20260212T223000
DTSTAMP:20260419T152750
CREATED:20260130T135249Z
LAST-MODIFIED:20260130T135249Z
UID:1564-1770930000-1770935400@www.entemanifestazioni.com
SUMMARY:IL MEDICO DEI PAZZI di Eduardo Scarpetta
DESCRIPTION:GIOVEDÌ 12\nore 21.00 – Teatro Milanollo\, piazza Turletti\nStagione Teatrale al Milanollo 2025/26\nIL MEDICO DEI PAZZI di Eduardo Scarpetta\nCon Gianfelice Imparato – regia e adattamento Leo Muscato (produzione Teatro di Napoli)\nIngresso: da € 16 a € 22 secondo l’ordine di posto\nInfo: 0172.710222 – cultura@comune.savigliano.cn.it
URL:https://www.entemanifestazioni.com/evento/il-medico-dei-pazzi-di-eduardo-scarpetta/
LOCATION:Teatro Milanollo\, Piazza Turletti\, Savigliano\, Italy
END:VEVENT
BEGIN:VEVENT
DTSTART;TZID=Europe/Rome:20260213T163000
DTEND;TZID=Europe/Rome:20260213T190000
DTSTAMP:20260419T152750
CREATED:20260130T151551Z
LAST-MODIFIED:20260130T151551Z
UID:1610-1771000200-1771009200@www.entemanifestazioni.com
SUMMARY:CENTRO FAMIGLIE E LUDOTECA “LA CASA SULL’ALBERO”
DESCRIPTION:CENTRO FAMIGLIE E LUDOTECA “LA CASA SULL’ALBERO” \nvenerdì 13\nore 16.30/19 – Festa di Carnevale per bambini da 0 a 10 anni. Gradita prenotazione.
URL:https://www.entemanifestazioni.com/evento/centro-famiglie-e-ludoteca-la-casa-sullalbero-8/
LOCATION:CN
END:VEVENT
BEGIN:VEVENT
DTSTART;TZID=Europe/Rome:20260213T210000
DTEND;TZID=Europe/Rome:20260213T230000
DTSTAMP:20260419T152750
CREATED:20260130T135408Z
LAST-MODIFIED:20260130T135408Z
UID:1566-1771016400-1771023600@www.entemanifestazioni.com
SUMMARY:Spettacolo QUANT’E’ DIFFICILE DIVENTARE GRANDI
DESCRIPTION:VENERDÌ 13\nore 21.00 – Sala Crosà Neira\, piazza Misericordia\nSpettacolo QUANT’E’ DIFFICILE DIVENTARE GRANDI stand up comedy con l’artista Luca Sbrab (Luca Abbà).\nIngresso: € 5\,00\nInfo e prenotazione:\n20 Lab training (Via Macra 54) in orario lun/ven 16/20 e sabato 8.30/13 – cell 346/3085225
URL:https://www.entemanifestazioni.com/evento/spettacolo-quante-difficile-diventare-grandi/
LOCATION:Crosà Neira\, Piazza Misericordia\, Savigliano\, Italy
END:VEVENT
BEGIN:VEVENT
DTSTART;TZID=Europe/Rome:20260214T150000
DTEND;TZID=Europe/Rome:20260214T170000
DTSTAMP:20260419T152750
CREATED:20260130T135653Z
LAST-MODIFIED:20260130T135653Z
UID:1568-1771081200-1771088400@www.entemanifestazioni.com
SUMMARY:Presentazione del libro “IL TRENO NON PASSA UNA VOLTA SOLA. LA STORIA DEL FONDATORE DI ARENAWAYS”
DESCRIPTION:SABATO 14\nore 15.00 – Museo Ferroviario P.se\, Via Coloira 7\nPresentazione del libro “IL TRENO NON PASSA UNA VOLTA SOLA. LA STORIA DEL FONDATORE DI ARENAWAYS” di Giuseppe Arena.\nSarà presente l’autore.\nInfo: savigliano@museoferroviariopiemontese.it
URL:https://www.entemanifestazioni.com/evento/presentazione-del-libro-il-treno-non-passa-una-volta-sola-la-storia-del-fondatore-di-arenaways/
LOCATION:Museo Ferroviario Piemontese\, Via Coloira\, 7\, Savigliano\, 12038\, Italy
END:VEVENT
BEGIN:VEVENT
DTSTART;TZID=Europe/Rome:20260214T150000
DTEND;TZID=Europe/Rome:20260214T170000
DTSTAMP:20260419T152750
CREATED:20260130T135908Z
LAST-MODIFIED:20260130T135908Z
UID:1570-1771081200-1771088400@www.entemanifestazioni.com
SUMMARY:XVIII Festival di Espressione Artistica e Impegno civile
DESCRIPTION:SABATO 14 \nore 15.00 – Salone San Filippo\, Via Ferreri 11\nXVIII Festival di Espressione Artistica e Impegno civile – la Poesia\, espressione di tensione umana e spirituale. Reading poetico LA PRIMA COSA BELLA\nConduce A. Scommegna Pres. Assoc. Culturale Cenacolo C. Rebora. Leggono soci e simpatizzanti. Interventi musicali a cura Associazione Live APS (chitarra M. Abbadessa e voce D. Quaglia).\nAi presenti omaggio poetico e un dolce ricordo.\nIngresso libero
URL:https://www.entemanifestazioni.com/evento/xviii-festival-di-espressione-artistica-e-impegno-civile/
LOCATION:Salone San Filippo\, Via Ferreri\, 11\, Savigliano\, CN\, 12038\, Italy
END:VEVENT
BEGIN:VEVENT
DTSTART;TZID=Europe/Rome:20260215T150000
DTEND;TZID=Europe/Rome:20260215T190000
DTSTAMP:20260419T152750
CREATED:20260130T140612Z
LAST-MODIFIED:20260130T140726Z
UID:1573-1771167600-1771182000@www.entemanifestazioni.com
SUMMARY:CARNEVALE SAVIGLIANESE 2026
DESCRIPTION:DOMENICA 15\nore 15.00 – piazza del Popolo\nCARNEVALE SAVIGLIANESE 2026\nSaranno presenti Saraset e Sarasetta oltre al Gruppo Maschere Saviglianesi… musica e animazione\, Ludobus\, trucca bimbi\, palloncini\, merenda… \nIn collaborazione con Società Mutuo Soccorso\, Pro Loco\, Gruppo Alpini\, Croce Rossa e Gruppo Maschere Saviglianesi.
URL:https://www.entemanifestazioni.com/evento/carnevale-saviglianese-2026/
LOCATION:Piazza del Popolo\, Piazza del Popolo\, Savigliano\, 12038\, Italy
END:VEVENT
END:VCALENDAR